BEGIN:VCALENDAR
VERSION:2.0
PRODID:-//wp-events-plugin.com//7.2.3.1//EN
TZID:America/New_York
X-WR-TIMEZONE:America/New_York
BEGIN:VEVENT
UID:267@kofc5231.org
DTSTART;TZID=America/New_York:20260503T193000
DTEND;TZID=America/New_York:20260503T213000
DTSTAMP:20260203T151624Z
URL:https://www.kofc5231.org/events/council-business-meeting-2026-03-01-20
 26-04-05-2026-05-03/
SUMMARY:Council Business Meeting
DESCRIPTION:
CATEGORIES:Meetings
LOCATION:St. Thomas Small Hall\, 82 Exchange Street\, Millis\, MA\, United 
 States
X-APPLE-STRUCTURED-LOCATION;VALUE=URI;X-ADDRESS=82 Exchange Street\, Millis
 \, MA\, United States;X-APPLE-RADIUS=100;X-TITLE=St. Thomas Small Hall:geo
 :0,0
END:VEVENT
BEGIN:VEVENT
UID:277@kofc5231.org
DTSTART;TZID=America/New_York:20260607T073000
DTEND;TZID=America/New_York:20260607T120000
DTSTAMP:20260403T150119Z
URL:https://www.kofc5231.org/events/annual-community-breakfast/
SUMMARY:Annual Community Breakfast
DESCRIPTION:We are holding our annual Community Breakfast\, our biggest fun
 draiser of the year. Please bring your family and friends to this event to
  eat good food and make new friends. We will also need plenty of help.
CATEGORIES:Volunteer Opportunities
END:VEVENT
BEGIN:VEVENT
UID:268@kofc5231.org
DTSTART;TZID=America/New_York:20260607T193000
DTEND;TZID=America/New_York:20260607T213000
DTSTAMP:20260203T151624Z
URL:https://www.kofc5231.org/events/council-business-meeting-2026-03-01-20
 26-04-05-2026-05-03-2026-06-07/
SUMMARY:Council Business Meeting
DESCRIPTION:
CATEGORIES:Meetings
LOCATION:St. Thomas Small Hall\, 82 Exchange Street\, Millis\, MA\, United 
 States
X-APPLE-STRUCTURED-LOCATION;VALUE=URI;X-ADDRESS=82 Exchange Street\, Millis
 \, MA\, United States;X-APPLE-RADIUS=100;X-TITLE=St. Thomas Small Hall:geo
 :0,0
END:VEVENT
BEGIN:VEVENT
UID:278@kofc5231.org
DTSTART;TZID=America/New_York:20260614T193000
DTEND;TZID=America/New_York:20260614T213000
DTSTAMP:20260403T150544Z
URL:https://www.kofc5231.org/events/end-of-the-year-break-up-dinner/
SUMMARY:End of the Year Break-up Dinner
DESCRIPTION:
CATEGORIES:Meetings
LOCATION:St. Thomas Large Hall\, 974 Main St\, Millis\, MA\, United States
X-APPLE-STRUCTURED-LOCATION;VALUE=URI;X-ADDRESS=974 Main St\, Millis\, MA\,
  United States;X-APPLE-RADIUS=100;X-TITLE=St. Thomas Large Hall:geo:0,0
END:VEVENT
BEGIN:VEVENT
UID:269@kofc5231.org
DTSTART;TZID=America/New_York:20260705T193000
DTEND;TZID=America/New_York:20260705T213000
DTSTAMP:20260203T151624Z
URL:https://www.kofc5231.org/events/council-business-meeting-2026-03-01-20
 26-04-05-2026-05-03-2026-06-07-2026-07-05/
SUMMARY:Council Business Meeting
DESCRIPTION:
CATEGORIES:Meetings
LOCATION:St. Thomas Small Hall\, 82 Exchange Street\, Millis\, MA\, United 
 States
X-APPLE-STRUCTURED-LOCATION;VALUE=URI;X-ADDRESS=82 Exchange Street\, Millis
 \, MA\, United States;X-APPLE-RADIUS=100;X-TITLE=St. Thomas Small Hall:geo
 :0,0
END:VEVENT
BEGIN:VEVENT
UID:270@kofc5231.org
DTSTART;TZID=America/New_York:20260802T193000
DTEND;TZID=America/New_York:20260802T213000
DTSTAMP:20260203T151624Z
URL:https://www.kofc5231.org/events/council-business-meeting-2026-03-01-20
 26-04-05-2026-05-03-2026-06-07-2026-07-05-2026-08-02/
SUMMARY:Council Business Meeting
DESCRIPTION:
CATEGORIES:Meetings
LOCATION:St. Thomas Small Hall\, 82 Exchange Street\, Millis\, MA\, United 
 States
X-APPLE-STRUCTURED-LOCATION;VALUE=URI;X-ADDRESS=82 Exchange Street\, Millis
 \, MA\, United States;X-APPLE-RADIUS=100;X-TITLE=St. Thomas Small Hall:geo
 :0,0
END:VEVENT
BEGIN:VEVENT
UID:271@kofc5231.org
DTSTART;TZID=America/New_York:20260906T193000
DTEND;TZID=America/New_York:20260906T213000
DTSTAMP:20260203T151624Z
URL:https://www.kofc5231.org/events/council-business-meeting-2026-03-01-20
 26-04-05-2026-05-03-2026-06-07-2026-07-05-2026-08-02-2026-09-06/
SUMMARY:Council Business Meeting
DESCRIPTION:
CATEGORIES:Meetings
LOCATION:St. Thomas Small Hall\, 82 Exchange Street\, Millis\, MA\, United 
 States
X-APPLE-STRUCTURED-LOCATION;VALUE=URI;X-ADDRESS=82 Exchange Street\, Millis
 \, MA\, United States;X-APPLE-RADIUS=100;X-TITLE=St. Thomas Small Hall:geo
 :0,0
END:VEVENT
BEGIN:VEVENT
UID:272@kofc5231.org
DTSTART;TZID=America/New_York:20261004T193000
DTEND;TZID=America/New_York:20261004T213000
DTSTAMP:20260203T151624Z
URL:https://www.kofc5231.org/events/council-business-meeting-2026-03-01-20
 26-04-05-2026-05-03-2026-06-07-2026-07-05-2026-08-02-2026-09-06-2026-10-04
 /
SUMMARY:Council Business Meeting
DESCRIPTION:
CATEGORIES:Meetings
LOCATION:St. Thomas Small Hall\, 82 Exchange Street\, Millis\, MA\, United 
 States
X-APPLE-STRUCTURED-LOCATION;VALUE=URI;X-ADDRESS=82 Exchange Street\, Millis
 \, MA\, United States;X-APPLE-RADIUS=100;X-TITLE=St. Thomas Small Hall:geo
 :0,0
END:VEVENT
BEGIN:VEVENT
UID:273@kofc5231.org
DTSTART;TZID=America/New_York:20261101T193000
DTEND;TZID=America/New_York:20261101T213000
DTSTAMP:20260203T151624Z
URL:https://www.kofc5231.org/events/council-business-meeting-2026-03-01-20
 26-04-05-2026-05-03-2026-06-07-2026-07-05-2026-08-02-2026-09-06-2026-10-04
 -2026-11-01/
SUMMARY:Council Business Meeting
DESCRIPTION:
CATEGORIES:Meetings
LOCATION:St. Thomas Small Hall\, 82 Exchange Street\, Millis\, MA\, United 
 States
X-APPLE-STRUCTURED-LOCATION;VALUE=URI;X-ADDRESS=82 Exchange Street\, Millis
 \, MA\, United States;X-APPLE-RADIUS=100;X-TITLE=St. Thomas Small Hall:geo
 :0,0
END:VEVENT
BEGIN:VEVENT
UID:274@kofc5231.org
DTSTART;TZID=America/New_York:20261206T193000
DTEND;TZID=America/New_York:20261206T213000
DTSTAMP:20260203T151624Z
URL:https://www.kofc5231.org/events/council-business-meeting-2026-03-01-20
 26-04-05-2026-05-03-2026-06-07-2026-07-05-2026-08-02-2026-09-06-2026-10-04
 -2026-11-01-2026-12-06/
SUMMARY:Council Business Meeting
DESCRIPTION:
CATEGORIES:Meetings
LOCATION:St. Thomas Small Hall\, 82 Exchange Street\, Millis\, MA\, United 
 States
X-APPLE-STRUCTURED-LOCATION;VALUE=URI;X-ADDRESS=82 Exchange Street\, Millis
 \, MA\, United States;X-APPLE-RADIUS=100;X-TITLE=St. Thomas Small Hall:geo
 :0,0
END:VEVENT
BEGIN:VEVENT
UID:275@kofc5231.org
DTSTART;TZID=America/New_York:20270103T193000
DTEND;TZID=America/New_York:20270103T213000
DTSTAMP:20260203T151624Z
URL:https://www.kofc5231.org/events/council-business-meeting-2026-03-01-20
 26-04-05-2026-05-03-2026-06-07-2026-07-05-2026-08-02-2026-09-06-2026-10-04
 -2026-11-01-2026-12-06-2027-01-03/
SUMMARY:Council Business Meeting
DESCRIPTION:
CATEGORIES:Meetings
LOCATION:St. Thomas Small Hall\, 82 Exchange Street\, Millis\, MA\, United 
 States
X-APPLE-STRUCTURED-LOCATION;VALUE=URI;X-ADDRESS=82 Exchange Street\, Millis
 \, MA\, United States;X-APPLE-RADIUS=100;X-TITLE=St. Thomas Small Hall:geo
 :0,0
END:VEVENT
BEGIN:VTIMEZONE
TZID:America/New_York
X-LIC-LOCATION:America/New_York
BEGIN:DAYLIGHT
DTSTART:20260308T030000
TZOFFSETFROM:-0500
TZOFFSETTO:-0400
TZNAME:EDT
END:DAYLIGHT
BEGIN:STANDARD
DTSTART:20261101T010000
TZOFFSETFROM:-0400
TZOFFSETTO:-0500
TZNAME:EST
END:STANDARD
END:VTIMEZONE
END:VCALENDAR